BEGIN:VCALENDAR
VERSION:2.0
PRODID:-//Eye Town Council//Meeting Calendar//EN
CALSCALE:GREGORIAN
METHOD:PUBLISH
BEGIN:VEVENT
UID:71644-2025-09-04@eyetowncouncil.gov.uk
DTSTAMP:20260422T102709Z
DTSTART;VALUE=DATE:2025-09-04
DTEND;VALUE=DATE:20250905
SUMMARY:Finance &#038\\; Governance Committee — 4 September 2025
DESCRIPTION:Council Meeting\nView details: https://eyetowncouncil.gov.uk/meetings/finance-governance-committee-4-september-2025/
URL:https://eyetowncouncil.gov.uk/meetings/finance-governance-committee-4-september-2025/
END:VEVENT
END:VCALENDAR
