BEGIN:VCALENDAR
VERSION:2.0
PRODID:-//Eye Town Council//Meeting Calendar//EN
CALSCALE:GREGORIAN
METHOD:PUBLISH
BEGIN:VEVENT
UID:71641-2025-07-03@eyetowncouncil.gov.uk
DTSTAMP:20260422T104150Z
DTSTART;VALUE=DATE:2025-07-03
DTEND;VALUE=DATE:20250704
SUMMARY:Finance &#038\\; Governance Committee — 3 July 2025
DESCRIPTION:Council Meeting\nView details: https://eyetowncouncil.gov.uk/meetings/finance-governance-committee-3-july-2025/
URL:https://eyetowncouncil.gov.uk/meetings/finance-governance-committee-3-july-2025/
END:VEVENT
END:VCALENDAR
