BEGIN:VCALENDAR
VERSION:2.0
PRODID:-//Eye Town Council//Meeting Calendar//EN
CALSCALE:GREGORIAN
METHOD:PUBLISH
BEGIN:VEVENT
UID:71638-2025-06-05@eyetowncouncil.gov.uk
DTSTAMP:20260422T121030Z
DTSTART;VALUE=DATE:2025-06-05
DTEND;VALUE=DATE:20250606
SUMMARY:Finance &#038\\; Governance Committee — 5 June 2025
DESCRIPTION:Council Meeting\nView details: https://eyetowncouncil.gov.uk/meetings/finance-governance-committee-5-june-2025/
URL:https://eyetowncouncil.gov.uk/meetings/finance-governance-committee-5-june-2025/
END:VEVENT
END:VCALENDAR
