BEGIN:VCALENDAR
VERSION:2.0
PRODID:-//Eye Town Council//Meeting Calendar//EN
CALSCALE:GREGORIAN
METHOD:PUBLISH
BEGIN:VEVENT
UID:71636-2025-05-01@eyetowncouncil.gov.uk
DTSTAMP:20260422T102715Z
DTSTART;VALUE=DATE:2025-05-01
DTEND;VALUE=DATE:20250502
SUMMARY:Finance &#038\\; Governance Committee — 1 May 2025
DESCRIPTION:Council Meeting\nView details: https://eyetowncouncil.gov.uk/meetings/finance-governance-committee-1-may-2025/
URL:https://eyetowncouncil.gov.uk/meetings/finance-governance-committee-1-may-2025/
END:VEVENT
END:VCALENDAR
