BEGIN:VCALENDAR
VERSION:2.0
PRODID:-//Eye Town Council//Meeting Calendar//EN
CALSCALE:GREGORIAN
METHOD:PUBLISH
BEGIN:VEVENT
UID:71128-2025-08-15@eyetowncouncil.gov.uk
DTSTAMP:20260422T090006Z
DTSTART;VALUE=DATE:2025-08-15
DTEND;VALUE=DATE:20250816
SUMMARY:Town Hall &#038\\; Events Committee — 15 August 2025
DESCRIPTION:Council Meeting\nView details: https://eyetowncouncil.gov.uk/meetings/town-hall-events-committee-15-august-2025/
URL:https://eyetowncouncil.gov.uk/meetings/town-hall-events-committee-15-august-2025/
END:VEVENT
END:VCALENDAR
