BEGIN:VCALENDAR
VERSION:2.0
PRODID:-//Eye Town Council//Meeting Calendar//EN
CALSCALE:GREGORIAN
METHOD:PUBLISH
BEGIN:VEVENT
UID:70757-2025-06-09@eyetowncouncil.gov.uk
DTSTAMP:20260422T121427Z
DTSTART;VALUE=DATE:2025-06-09
DTEND;VALUE=DATE:20250610
SUMMARY:Town Hall &#038\\; Events Committee — 9 June 2025
DESCRIPTION:Council Meeting\nView details: https://eyetowncouncil.gov.uk/meetings/town-hall-events-committee-9-june-2025/
URL:https://eyetowncouncil.gov.uk/meetings/town-hall-events-committee-9-june-2025/
END:VEVENT
END:VCALENDAR
