BEGIN:VCALENDAR
VERSION:2.0
PRODID:-//Eye Town Council//Meeting Calendar//EN
CALSCALE:GREGORIAN
METHOD:PUBLISH
BEGIN:VEVENT
UID:70754-2025-05-12@eyetowncouncil.gov.uk
DTSTAMP:20260422T121939Z
DTSTART;VALUE=DATE:2025-05-12
DTEND;VALUE=DATE:20250513
SUMMARY:Town Hall &#038\\; Events Committee — 12 May 2025
DESCRIPTION:Council Meeting\nView details: https://eyetowncouncil.gov.uk/meetings/town-hall-events-committee-12-may-2025/
URL:https://eyetowncouncil.gov.uk/meetings/town-hall-events-committee-12-may-2025/
END:VEVENT
END:VCALENDAR
