BEGIN:VCALENDAR
VERSION:2.0
PRODID:-//Eye Town Council//Meeting Calendar//EN
CALSCALE:GREGORIAN
METHOD:PUBLISH
BEGIN:VEVENT
UID:70751-2025-03-10@eyetowncouncil.gov.uk
DTSTAMP:20260422T085945Z
DTSTART;VALUE=DATE:2025-03-10
DTEND;VALUE=DATE:20250311
SUMMARY:Town Hall &#038\\; Events Committee — 10 March 2025
DESCRIPTION:Council Meeting\nView details: https://eyetowncouncil.gov.uk/meetings/town-hall-events-committee-10-march-2025/
URL:https://eyetowncouncil.gov.uk/meetings/town-hall-events-committee-10-march-2025/
END:VEVENT
END:VCALENDAR
