BEGIN:VCALENDAR
VERSION:2.0
PRODID:-//Eye Town Council//Meeting Calendar//EN
CALSCALE:GREGORIAN
METHOD:PUBLISH
BEGIN:VEVENT
UID:70711-2025-07-14@eyetowncouncil.gov.uk
DTSTAMP:20260422T110022Z
DTSTART;VALUE=DATE:2025-07-14
DTEND;VALUE=DATE:20250715
SUMMARY:Planning Committee — 14 July 2025
DESCRIPTION:Council Meeting\nView details: https://eyetowncouncil.gov.uk/meetings/planning-committee-14-july-2025/
URL:https://eyetowncouncil.gov.uk/meetings/planning-committee-14-july-2025/
END:VEVENT
END:VCALENDAR
