BEGIN:VCALENDAR
VERSION:2.0
PRODID:-//Eye Town Council//Meeting Calendar//EN
CALSCALE:GREGORIAN
METHOD:PUBLISH
BEGIN:VEVENT
UID:70708-2025-06-16@eyetowncouncil.gov.uk
DTSTAMP:20260422T121809Z
DTSTART;VALUE=DATE:2025-06-16
DTEND;VALUE=DATE:20250617
SUMMARY:Planning Committee — 16 June 2025
DESCRIPTION:Council Meeting\nView details: https://eyetowncouncil.gov.uk/meetings/planning-committee-16-june-2025/
URL:https://eyetowncouncil.gov.uk/meetings/planning-committee-16-june-2025/
END:VEVENT
END:VCALENDAR
