BEGIN:VCALENDAR
VERSION:2.0
PRODID:-//Eye Town Council//Meeting Calendar//EN
CALSCALE:GREGORIAN
METHOD:PUBLISH
BEGIN:VEVENT
UID:70706-2025-04-22@eyetowncouncil.gov.uk
DTSTAMP:20260422T102715Z
DTSTART;VALUE=DATE:2025-04-22
DTEND;VALUE=DATE:20250423
SUMMARY:Planning Committee — 22 April 2025
DESCRIPTION:Council Meeting\nView details: https://eyetowncouncil.gov.uk/meetings/planning-committee-22-april-2025/
URL:https://eyetowncouncil.gov.uk/meetings/planning-committee-22-april-2025/
END:VEVENT
END:VCALENDAR
