BEGIN:VCALENDAR
VERSION:2.0
PRODID:-//Eye Town Council//Meeting Calendar//EN
CALSCALE:GREGORIAN
METHOD:PUBLISH
BEGIN:VEVENT
UID:70703-2025-03-17@eyetowncouncil.gov.uk
DTSTAMP:20260422T090047Z
DTSTART;VALUE=DATE:2025-03-17
DTEND;VALUE=DATE:20250318
SUMMARY:Planning Committee — 17 March 2025
DESCRIPTION:Council Meeting\nView details: https://eyetowncouncil.gov.uk/meetings/planning-committee-17-march-2025/
URL:https://eyetowncouncil.gov.uk/meetings/planning-committee-17-march-2025/
END:VEVENT
END:VCALENDAR
