BEGIN:VCALENDAR
VERSION:2.0
PRODID:-//Eye Town Council//Meeting Calendar//EN
CALSCALE:GREGORIAN
METHOD:PUBLISH
BEGIN:VEVENT
UID:70643-2025-09-02@eyetowncouncil.gov.uk
DTSTAMP:20260422T133312Z
DTSTART;VALUE=DATE:2025-09-02
DTEND;VALUE=DATE:20250903
SUMMARY:Environment Committee — 2 September 2025
DESCRIPTION:Council Meeting\nView details: https://eyetowncouncil.gov.uk/meetings/environment-committee-2-september-2025/
URL:https://eyetowncouncil.gov.uk/meetings/environment-committee-2-september-2025/
END:VEVENT
END:VCALENDAR
