BEGIN:VCALENDAR
VERSION:2.0
PRODID:-//Eye Town Council//Meeting Calendar//EN
CALSCALE:GREGORIAN
METHOD:PUBLISH
BEGIN:VEVENT
UID:70640-2025-07-01@eyetowncouncil.gov.uk
DTSTAMP:20260422T104048Z
DTSTART;VALUE=DATE:2025-07-01
DTEND;VALUE=DATE:20250702
SUMMARY:Environment Committee — 1 July 2025
DESCRIPTION:Council Meeting\nView details: https://eyetowncouncil.gov.uk/meetings/environment-committee-1-july-2025/
URL:https://eyetowncouncil.gov.uk/meetings/environment-committee-1-july-2025/
END:VEVENT
END:VCALENDAR
