BEGIN:VCALENDAR
VERSION:2.0
PRODID:-//Eye Town Council//Meeting Calendar//EN
CALSCALE:GREGORIAN
METHOD:PUBLISH
BEGIN:VEVENT
UID:70637-2025-06-03@eyetowncouncil.gov.uk
DTSTAMP:20260422T121741Z
DTSTART;VALUE=DATE:2025-06-03
DTEND;VALUE=DATE:20250604
SUMMARY:Environment Committee — 3 June 2025
DESCRIPTION:Council Meeting\nView details: https://eyetowncouncil.gov.uk/meetings/environment-committee-3-june-2025/
URL:https://eyetowncouncil.gov.uk/meetings/environment-committee-3-june-2025/
END:VEVENT
END:VCALENDAR
