BEGIN:VCALENDAR
VERSION:2.0
PRODID:-//Eye Town Council//Meeting Calendar//EN
CALSCALE:GREGORIAN
METHOD:PUBLISH
BEGIN:VEVENT
UID:70634-2025-05-06@eyetowncouncil.gov.uk
DTSTAMP:20260422T102817Z
DTSTART;VALUE=DATE:2025-05-06
DTEND;VALUE=DATE:20250507
SUMMARY:Environment Committee — 6 May 2025
DESCRIPTION:Council Meeting\nView details: https://eyetowncouncil.gov.uk/meetings/environment-committee-6-may-2025/
URL:https://eyetowncouncil.gov.uk/meetings/environment-committee-6-may-2025/
END:VEVENT
END:VCALENDAR
