BEGIN:VCALENDAR
VERSION:2.0
PRODID:-//Eye Town Council//Meeting Calendar//EN
CALSCALE:GREGORIAN
METHOD:PUBLISH
BEGIN:VEVENT
UID:70577-2026-01-21@eyetowncouncil.gov.uk
DTSTAMP:20260422T092223Z
DTSTART;VALUE=DATE:2026-01-21
DTEND;VALUE=DATE:20260122
SUMMARY:Full Council — 21 January 2026
DESCRIPTION:Council Meeting\nView details: https://eyetowncouncil.gov.uk/meetings/full-council-21-january-2026/
URL:https://eyetowncouncil.gov.uk/meetings/full-council-21-january-2026/
END:VEVENT
END:VCALENDAR
